BEGIN:VCALENDAR
VERSION:2.0
PRODID:-//Warren County Public Library - ECPv6.15.20//NONSGML v1.0//EN
CALSCALE:GREGORIAN
METHOD:PUBLISH
X-WR-CALNAME:Warren County Public Library
X-ORIGINAL-URL:https://wcplibrary.org
X-WR-CALDESC:Events for Warren County Public Library
REFRESH-INTERVAL;VALUE=DURATION:PT1H
X-Robots-Tag:noindex
X-PUBLISHED-TTL:PT1H
BEGIN:VTIMEZONE
TZID:America/Chicago
BEGIN:DAYLIGHT
TZOFFSETFROM:-0600
TZOFFSETTO:-0500
TZNAME:CDT
DTSTART:20210314T080000
END:DAYLIGHT
BEGIN:STANDARD
TZOFFSETFROM:-0500
TZOFFSETTO:-0600
TZNAME:CST
DTSTART:20211107T070000
END:STANDARD
BEGIN:DAYLIGHT
TZOFFSETFROM:-0600
TZOFFSETTO:-0500
TZNAME:CDT
DTSTART:20220313T080000
END:DAYLIGHT
BEGIN:STANDARD
TZOFFSETFROM:-0500
TZOFFSETTO:-0600
TZNAME:CST
DTSTART:20221106T070000
END:STANDARD
BEGIN:DAYLIGHT
TZOFFSETFROM:-0600
TZOFFSETTO:-0500
TZNAME:CDT
DTSTART:20230312T080000
END:DAYLIGHT
BEGIN:STANDARD
TZOFFSETFROM:-0500
TZOFFSETTO:-0600
TZNAME:CST
DTSTART:20231105T070000
END:STANDARD
END:VTIMEZONE
BEGIN:VEVENT
DTSTART;TZID=America/Chicago:20220224T173000
DTEND;TZID=America/Chicago:20220224T183000
DTSTAMP:20260422T114639
CREATED:20220106T210719Z
LAST-MODIFIED:20220421T153154Z
UID:375-1645723800-1645727400@wcplibrary.org
SUMMARY:February Book Discussion: Bridges of Madison County by Robert James Waller
DESCRIPTION:“Bridges of Madison County” by Robert James Waller Flashback February with this classic tale of star-crossed lovers Robert Kincaid\, the free-spirited photographer searching for the covered bridges of Madison County\, and Francesca Johnson\, the farm wife awaiting the fulfillment of a girlhood dream. \nThe Bridges of Madison County  \nCheck out the discussion questions in the PDF above and start posting on the Facebook WCPL Book Discussion group page. \nPick up your free copy while supplies last. Virtual discussion will take place on February 24th at 5:30pm. Join the WCPL Book Discussion group for more updates: facebook.com/groups/wcplbookdiscussion \nJoin Zoom Meeting\nhttps://wiu.zoom.us/j/93723425011 \nMeeting ID: 937 2342 5011\nOne tap mobile\n+13126266799\,\,93723425011# US (Chicago)\n+16468769923\,\,93723425011# US (New York) \n 
URL:https://wcplibrary.org/event/bridges-madison-county
CATEGORIES:Adult Program
END:VEVENT
BEGIN:VEVENT
DTSTART;TZID=America/Chicago:20220224T170000
DTEND;TZID=America/Chicago:20220224T190000
DTSTAMP:20260422T114639
CREATED:20220128T212624Z
LAST-MODIFIED:20220207T163629Z
UID:441-1645722000-1645729200@wcplibrary.org
SUMMARY:ROE 33 Family Literacy Program Presents Game Night
DESCRIPTION:The Regional Office of Education #33 presents Game Night for all families. Thursday\, February 24th* from 5-7pm at the Warren County Public Library. There will games of all ranges and popcorn to enjoy. And every family gets to take home a game to keep. \n*Please note: Game night was rescheduled to Feb. 24th (original date was Feb 17th). We apologized if there are images with the previous date listed.
URL:https://wcplibrary.org/event/roe-33-family-literacy-program-presents-game-night
CATEGORIES:Kids Program
ATTACH;FMTTYPE=image/jpeg:https://wcplibrary.org/wp-content/uploads/roegamenightrevised-e1644251780826.jpg
END:VEVENT
BEGIN:VEVENT
DTSTART;TZID=America/Chicago:20220218T153000
DTEND;TZID=America/Chicago:20220218T163000
DTSTAMP:20260422T114639
CREATED:20220106T212820Z
LAST-MODIFIED:20220421T152659Z
UID:389-1645198200-1645201800@wcplibrary.org
SUMMARY:President's Day Craft
DESCRIPTION:In honor of President’s Day\, we will be making tricorn hats in the Children’s Room Friday\, Feb. 18th from 3:30-4:30pm.
URL:https://wcplibrary.org/event/presidents-day-craft
CATEGORIES:Kids Program
ATTACH;FMTTYPE=image/png:https://wcplibrary.org/wp-content/uploads/presidentsday-e1641504488851.png
END:VEVENT
BEGIN:VEVENT
DTSTART;TZID=America/Chicago:20220216T190000
DTEND;TZID=America/Chicago:20220216T200000
DTSTAMP:20260422T114639
CREATED:20220114T200427Z
LAST-MODIFIED:20220421T152630Z
UID:424-1645038000-1645041600@wcplibrary.org
SUMMARY:An Evening With Jasmine Guillory
DESCRIPTION:Join us for a lively evening with one of romance’s brightest new voices\, bestselling author Jasmine Guillory\, as she discusses her newest novel\, While We Were Dating\, and the modern rom-com.  \nJasmine Guillory is a writer\, lawyer and New York Times bestselling author of six romance novels\, including The Wedding Date\, Royal Holiday and Party of Two. NPR called Guillory’s The Proposal “rollicking\, charming\, and infinitely zesty.” Her work has appeared in O\, The Oprah Magazine\, Cosmopolitan\, Bon Appetit\, and Time. She lives in Oakland\, California.  \nGuillory will be joined in conversation with author Morgan Rogers. Roger’s work has been praised by O\, The Oprah Magazine and Book Riot. Both Guillory’s While We Were Dating and Rogers’ Honey Girl were included in NPR’s list of the best books of 2021. \nThis program will take place online on Zoom. Register at https://bit.ly/ILP_JasmineGuillory.  \nThis event is made possible by Illinois Libraries Present\, a statewide collaboration among public libraries offering high-quality events.
URL:https://wcplibrary.org/event/an-evening-with-jasmine-guillory
CATEGORIES:Adult Program
ATTACH;FMTTYPE=image/png:https://wcplibrary.org/wp-content/uploads/JG_Graphic_FB-e1642190572382.png
END:VEVENT
BEGIN:VEVENT
DTSTART;TZID=America/Chicago:20220215T100000
DTEND;TZID=America/Chicago:20220215T120000
DTSTAMP:20260422T114639
CREATED:20220118T213843Z
LAST-MODIFIED:20220118T213843Z
UID:427-1644919200-1644926400@wcplibrary.org
SUMMARY:Book Signing with Nancy Stevens
DESCRIPTION:Local resident and author\, Nancy Stevens\, will be signing copies of her book\, Nancy’s Journey: A Memoir. This event will take place on Tuesday\, Feb. 15th from 10AM-12PM at the Warren County Public Library.
URL:https://wcplibrary.org/event/book-signing-with-nancy-stevens
CATEGORIES:Adult Program
ATTACH;FMTTYPE=image/jpeg:https://wcplibrary.org/wp-content/uploads/nancysbookcover-scaled-e1642541894196.jpg
END:VEVENT
BEGIN:VEVENT
DTSTART;TZID=America/Chicago:20220211T143000
DTEND;TZID=America/Chicago:20220211T153000
DTSTAMP:20260422T114639
CREATED:20220106T212620Z
LAST-MODIFIED:20220421T152709Z
UID:387-1644589800-1644593400@wcplibrary.org
SUMMARY:Knot a Quilt Part 2
DESCRIPTION:Teens- the quilt making continues! Help us make a quilt to be donated to the Jamieson Center. No experience necessary. Event will take place Friday\, Feb. 11th from 2:30-3:30pm in the Teen Room.
URL:https://wcplibrary.org/event/knot-a-quilt-part-2
CATEGORIES:Teen Program
ATTACH;FMTTYPE=image/png:https://wcplibrary.org/wp-content/uploads/quilt.png
END:VEVENT
BEGIN:VEVENT
DTSTART;TZID=America/Chicago:20220127T173000
DTEND;TZID=America/Chicago:20220127T183000
DTSTAMP:20260422T114639
CREATED:20220106T204533Z
LAST-MODIFIED:20220421T152613Z
UID:370-1643304600-1643308200@wcplibrary.org
SUMMARY:Adult Book Discussion
DESCRIPTION:“In Five Years” by Rebecca Serle Everything is going as planned for Dannie Kohan until she wakes up one day in a very different apartment\, next to a very different man. After exactly one hour five years in the future\, Dannie continues with her meticulous 5-year plan until 4.5 years later\, when she meets the very same man. An unforgettable love story\, but not the one you’re expecting. \nPick up a free copy while supplies last. Online discussion will take place January 27 @ 5:30pm. Join the WCPL Book Discussion group for more updates: facebook.com/groups/wcplbookdiscussion \nClick on the Zoom link below to join \nhttps://wiu.zoom.us/j/9427465669 \nMeeting ID: 942 746 5669
URL:https://wcplibrary.org/event/adult-book-discussion
CATEGORIES:Adult Program
END:VEVENT
BEGIN:VEVENT
DTSTART;TZID=America/Chicago:20220126T190000
DTEND;TZID=America/Chicago:20220126T200000
DTSTAMP:20260422T114639
CREATED:20220114T185133Z
LAST-MODIFIED:20220421T152625Z
UID:420-1643223600-1643227200@wcplibrary.org
SUMMARY:An Evening with Silvia Moreno-Garcia
DESCRIPTION:Silvia Moreno-Garcia\, the bestselling and award-winning author of Mexican Gothic\, is coming to Illinois libraries. Thanks to a new collaborative effort\, Illinois Libraries Present\, Warren County Public Library will join 200 other libraries in hosting Moreno-Garcia and other notable authors through virtual events. Moreno-Garcia will discuss her newest book\, Velvet Was the Night\, and her genre-defying mashups of cultural noir and Lovecraftian horror virtually on Wednesday\, January 26th at 7PM. Register at https://bit.ly/ILP_SilviaMoreno-Garcia. 
URL:https://wcplibrary.org/event/an-evening-with-silvia-moreno-garcia
CATEGORIES:Adult Program
ATTACH;FMTTYPE=image/png:https://wcplibrary.org/wp-content/uploads/SMG-FB-e1642186668647.png
END:VEVENT
BEGIN:VEVENT
DTSTART;TZID=America/Chicago:20220121T153000
DTEND;TZID=America/Chicago:20220121T163000
DTSTAMP:20260422T114639
CREATED:20220106T212349Z
LAST-MODIFIED:20220421T152716Z
UID:383-1642779000-1642782600@wcplibrary.org
SUMMARY:"Stained Glass Windows" Craft
DESCRIPTION:Kids- This colorful craft is sure to brighten your day. Join us in the children’s room for a “stained glass” project. The craft is open to all kids Friday\, Jan. 21st from 3:30-4:30pm (while supplies last).
URL:https://wcplibrary.org/event/stained-glass-windows-craft
CATEGORIES:Kids Program
ATTACH;FMTTYPE=image/jpeg:https://wcplibrary.org/wp-content/uploads/stainglasscraft-scaled-e1641504202620.jpg
END:VEVENT
BEGIN:VEVENT
DTSTART;TZID=America/Chicago:20220114T143000
DTEND;TZID=America/Chicago:20220114T153000
DTSTAMP:20260422T114639
CREATED:20220106T154403Z
LAST-MODIFIED:20220421T152722Z
UID:347-1642170600-1642174200@wcplibrary.org
SUMMARY:Knot a Quilt For Teens
DESCRIPTION:Teens- Help make a difference in your community. We will be knotting quilting tiles for a blanket. Once the quilt is complete\, it will be donated to the Jamieson Center to be given to an individual in need. Friday\, Jan 14th and Feb 11th from 2:30-3:30pm. Join us!
URL:https://wcplibrary.org/event/knot-a-quilt-for-teens
CATEGORIES:Teen Program
ATTACH;FMTTYPE=image/png:https://wcplibrary.org/wp-content/uploads/quilt.png
END:VEVENT
BEGIN:VEVENT
DTSTART;TZID=America/Chicago:20220113T184031
DTEND;TZID=America/Chicago:20220113T184031
DTSTAMP:20260422T114639
CREATED:20220113T184031Z
LAST-MODIFIED:20220113T184031Z
UID:401-1642099231-1642099231@wcplibrary.org
SUMMARY:January - March What's Happening: Quarterly Newsletter
DESCRIPTION:Click the link below to access the quarterly newsletter containing events and programs for adults and children happening during the months of January\, February\, and March. \nJanuary – March 2022
URL:https://wcplibrary.org/event/january-march-whats-happening-quarterly-newsletter
CATEGORIES:What's Happening: Quarterly Newsletter
ATTACH;FMTTYPE=image/png:https://wcplibrary.org/wp-content/uploads/jan-mar2022pg1-1-e1643398133732.png
END:VEVENT
END:VCALENDAR