BEGIN:VCALENDAR
VERSION:2.0
PRODID:-//Warren County Public Library - ECPv6.15.20//NONSGML v1.0//EN
CALSCALE:GREGORIAN
METHOD:PUBLISH
X-WR-CALNAME:Warren County Public Library
X-ORIGINAL-URL:https://wcplibrary.org
X-WR-CALDESC:Events for Warren County Public Library
REFRESH-INTERVAL;VALUE=DURATION:PT1H
X-Robots-Tag:noindex
X-PUBLISHED-TTL:PT1H
BEGIN:VTIMEZONE
TZID:America/Chicago
BEGIN:DAYLIGHT
TZOFFSETFROM:-0600
TZOFFSETTO:-0500
TZNAME:CDT
DTSTART:20240310T080000
END:DAYLIGHT
BEGIN:STANDARD
TZOFFSETFROM:-0500
TZOFFSETTO:-0600
TZNAME:CST
DTSTART:20241103T070000
END:STANDARD
BEGIN:DAYLIGHT
TZOFFSETFROM:-0600
TZOFFSETTO:-0500
TZNAME:CDT
DTSTART:20250309T080000
END:DAYLIGHT
BEGIN:STANDARD
TZOFFSETFROM:-0500
TZOFFSETTO:-0600
TZNAME:CST
DTSTART:20251102T070000
END:STANDARD
BEGIN:DAYLIGHT
TZOFFSETFROM:-0600
TZOFFSETTO:-0500
TZNAME:CDT
DTSTART:20260308T080000
END:DAYLIGHT
BEGIN:STANDARD
TZOFFSETFROM:-0500
TZOFFSETTO:-0600
TZNAME:CST
DTSTART:20261101T070000
END:STANDARD
END:VTIMEZONE
BEGIN:VEVENT
DTSTART;TZID=America/Chicago:20250920T080000
DTEND;TZID=America/Chicago:20250920T140000
DTSTAMP:20260421T094503
CREATED:20250527T203413Z
LAST-MODIFIED:20250919T150106Z
UID:3298-1758355200-1758376800@wcplibrary.org
SUMMARY:Friends of the Library Fall Book Sale
DESCRIPTION:The Friends of the Library Fall Book Sale\nSaturday\, September 20 @ 8am-2pm!\nFree will donations accepted!
URL:https://wcplibrary.org/event/friends-of-the-library-summer-book-sale
CATEGORIES:Book Sale
ATTACH;FMTTYPE=image/png:https://wcplibrary.org/wp-content/uploads/Sale-Date-2.png
END:VEVENT
END:VCALENDAR