BEGIN:VCALENDAR
VERSION:2.0
PRODID:-//Warren County Public Library - ECPv6.15.20//NONSGML v1.0//EN
CALSCALE:GREGORIAN
METHOD:PUBLISH
X-WR-CALNAME:Warren County Public Library
X-ORIGINAL-URL:https://wcplibrary.org
X-WR-CALDESC:Events for Warren County Public Library
REFRESH-INTERVAL;VALUE=DURATION:PT1H
X-Robots-Tag:noindex
X-PUBLISHED-TTL:PT1H
BEGIN:VTIMEZONE
TZID:America/Chicago
BEGIN:DAYLIGHT
TZOFFSETFROM:-0600
TZOFFSETTO:-0500
TZNAME:CDT
DTSTART:20230312T080000
END:DAYLIGHT
BEGIN:STANDARD
TZOFFSETFROM:-0500
TZOFFSETTO:-0600
TZNAME:CST
DTSTART:20231105T070000
END:STANDARD
BEGIN:DAYLIGHT
TZOFFSETFROM:-0600
TZOFFSETTO:-0500
TZNAME:CDT
DTSTART:20240310T080000
END:DAYLIGHT
BEGIN:STANDARD
TZOFFSETFROM:-0500
TZOFFSETTO:-0600
TZNAME:CST
DTSTART:20241103T070000
END:STANDARD
BEGIN:DAYLIGHT
TZOFFSETFROM:-0600
TZOFFSETTO:-0500
TZNAME:CDT
DTSTART:20250309T080000
END:DAYLIGHT
BEGIN:STANDARD
TZOFFSETFROM:-0500
TZOFFSETTO:-0600
TZNAME:CST
DTSTART:20251102T070000
END:STANDARD
END:VTIMEZONE
BEGIN:VEVENT
DTSTART;TZID=America/Chicago:20240606T170000
DTEND;TZID=America/Chicago:20240606T180000
DTSTAMP:20260423T094341
CREATED:20240518T211416Z
LAST-MODIFIED:20240518T211623Z
UID:2635-1717693200-1717696800@wcplibrary.org
SUMMARY:"The Happy Invention: History & Significance of Picture Postcards" with Katherine Hamilton-Smith and Illinois Road Scholars
DESCRIPTION:June 6 @ 5:00pm – 6:00pm\nAs a public speaker and founding curator of the Curt Teich Postcard Archives\, now at the Newberry Library\, Katherine Hamilton-Smith brings a fascinating piece of local cultural history to life: the invention of the picture postcard\, right here in Illinois! Hamilton-Smith presents a look at the documentary power and significance of picture postcards\, the role Illinois played in the history and development of postcards\, and on the picture postcard as a cultural icon\, including local postcards!\nAttend this event and earn 100 points towards your 2024 Summer Reading program!\n\n“The first picture postcards were published for the 1889 Paris Exposition\, celebrating the completion of the Eiffel Tower. In America\, the first picture postcards were printed for the 1893 World’s Columbian Exposition in Chicago —making Illinois the birthplace of the American picture postcard. Since those flowery Victorian originals\, uncountable billions of postcards of every aspect of life have been printed\, depicting train stations and bandstands\, street views and cartoons\, ads for products and services\, ‘beauties’ and ‘freaks\,’ social history both whimsical and dark\, and everything in between. An early mention of postcards is in the 1870 diary of a Welsh curate\, who called them “a happy invention.”In 2016\, the world’s largest public collection of postcards and related materials\, the Curt Teich Postcard Archives\, was given to the Newberry Library by the Lake County Forest Preserve District. Katherine Hamilton-Smith\, the founding curator of the Teich Archives\, presents a look at the documentary power and significance of picture postcards. She touches on the Curt Teich Company of Chicago\, the role Illinois played in the history and development of postcards\, and on the picture postcard as a cultural icon.” \n\n\nThe event will be co-produced by the Illinois Humanities Road Scholars Speakers Bureau\, which invites Illinois authors\, artists and educators to share their expertise and enthusiasm with people throughout the state\, enabling local nonprofit organizations to present free-admission cultural programs to their communities. Illinois Humanities is supported in part by the National Endowment for the Humanities: Democracy Demands Wisdom and the Illinois General Assembly [through the Illinois Arts Council Agency]\, as well as by contributions from individuals\, foundations\, and corporations.
URL:https://wcplibrary.org/event/the-happy-invention
CATEGORIES:Adult Program
ATTACH;FMTTYPE=image/png:https://wcplibrary.org/wp-content/uploads/Picture-Postcard-event.png
END:VEVENT
BEGIN:VEVENT
DTSTART;TZID=America/Chicago:20240613T160000
DTEND;TZID=America/Chicago:20240613T170000
DTSTAMP:20260423T094341
CREATED:20240518T212143Z
LAST-MODIFIED:20240518T213311Z
UID:2651-1718294400-1718298000@wcplibrary.org
SUMMARY:Adult Craft: Mandala Rock Painting
DESCRIPTION:June 13 @ 4:00pm\nJoin us for a fun\, relaxing craft of mandala rock painting!\nAttend this event and earn 100 points towards your 2024 Summer Reading program!\n\n 
URL:https://wcplibrary.org/event/mandala-rock-painting
CATEGORIES:Adult Program
ATTACH;FMTTYPE=image/png:https://wcplibrary.org/wp-content/uploads/Mandala-Rock-Painting-event.png
END:VEVENT
BEGIN:VEVENT
DTSTART;TZID=America/Chicago:20240620T160000
DTEND;TZID=America/Chicago:20240620T170000
DTSTAMP:20260423T094341
CREATED:20240518T212731Z
LAST-MODIFIED:20240521T193630Z
UID:2653-1718899200-1718902800@wcplibrary.org
SUMMARY:Sustainable Landscaping with Chris Enroth & U of I Extension Office
DESCRIPTION:June 20 @ 4:00 pm\nUniversity of Illinois horticulture educator\, Chris Enroth will introduce several different techniques to incorporate sustainable practices into the lawn and garden. We will discuss sustainable lawns\, how to handle stormwater\, building healthy soils\, and more fundamental methods to reduce your eco-footprint!\nAttend this event and earn 100 points towards your 2024 Summer Reading program!\n“Taking a sustainable approach to your yard benefits you\, the environment\, and our future. Sustainable landscapes save money by using fewer pesticides and fertilizers and lowers power\, water\, and waste disposal bills. Sustainable landscapes safeguard our water quality\, soils\, and wildlife and provide us with countless ecosystem services. University of Illinois Extension horticulture educator\, Chris Enroth will introduce several different techniques to incorporate sustainable practices into the lawn and garden. During the session\, we will discuss sustainable lawns\, how to handle stormwater\, building healthy soils\, and more fundamental methods to reduce your eco-footprint.”
URL:https://wcplibrary.org/event/sustainable-landscaping
CATEGORIES:Adult Program
ATTACH;FMTTYPE=image/png:https://wcplibrary.org/wp-content/uploads/Sustainable-Landscaping-event.png
END:VEVENT
BEGIN:VEVENT
DTSTART;TZID=America/Chicago:20240627T160000
DTEND;TZID=America/Chicago:20240627T170000
DTSTAMP:20260423T094341
CREATED:20240518T213141Z
LAST-MODIFIED:20240518T213253Z
UID:2655-1719504000-1719507600@wcplibrary.org
SUMMARY:Adult Craft: Pallet Painting
DESCRIPTION:June 27 @ 4:00 pm\nPaint some patriotic pallets with us in time for Independence Day!\nAttend this event and earn 100 points towards your 2024 Summer Reading program!
URL:https://wcplibrary.org/event/pallet-painting
CATEGORIES:Adult Program
ATTACH;FMTTYPE=image/png:https://wcplibrary.org/wp-content/uploads/Pallet-Painting-event.png
END:VEVENT
END:VCALENDAR